BEGIN:VCALENDAR
VERSION:2.0
PRODID:-// - ECPv6.15.20//NONSGML v1.0//EN
CALSCALE:GREGORIAN
METHOD:PUBLISH
X-ORIGINAL-URL:https://pflagniagara.ca
X-WR-CALDESC:Events for 
REFRESH-INTERVAL;VALUE=DURATION:PT1H
X-Robots-Tag:noindex
X-PUBLISHED-TTL:PT1H
BEGIN:VTIMEZONE
TZID:America/Toronto
BEGIN:DAYLIGHT
TZOFFSETFROM:-0500
TZOFFSETTO:-0400
TZNAME:EDT
DTSTART:20250309T070000
END:DAYLIGHT
BEGIN:STANDARD
TZOFFSETFROM:-0400
TZOFFSETTO:-0500
TZNAME:EST
DTSTART:20251102T060000
END:STANDARD
BEGIN:DAYLIGHT
TZOFFSETFROM:-0500
TZOFFSETTO:-0400
TZNAME:EDT
DTSTART:20260308T070000
END:DAYLIGHT
BEGIN:STANDARD
TZOFFSETFROM:-0400
TZOFFSETTO:-0500
TZNAME:EST
DTSTART:20261101T060000
END:STANDARD
BEGIN:DAYLIGHT
TZOFFSETFROM:-0500
TZOFFSETTO:-0400
TZNAME:EDT
DTSTART:20270314T070000
END:DAYLIGHT
BEGIN:STANDARD
TZOFFSETFROM:-0400
TZOFFSETTO:-0500
TZNAME:EST
DTSTART:20271107T060000
END:STANDARD
END:VTIMEZONE
BEGIN:VEVENT
DTSTART;TZID=America/Toronto:20260424T190000
DTEND;TZID=America/Toronto:20260424T210000
DTSTAMP:20260424T083214
CREATED:20231120T194723Z
LAST-MODIFIED:20250423T140819Z
UID:10000329-1777057200-1777064400@pflagniagara.ca
SUMMARY:Transgender Niagara - Monthly peer support meeting
DESCRIPTION:Peer Support Group for Transgender individuals and their families. Allies welcome! \nTakes place on the 4th Friday of each month. \nEmail facilitator Colleen McTigue mctigue.colleen@gmail.com for details.
URL:https://pflagniagara.ca/event/transgender-niagara-monthly-peer-support-meeting/2026-04-24/
LOCATION:Silver Spire United Church\, 366 St.Paul Street\, St.Catharines\, L2R 3N2\, Canada
ATTACH;FMTTYPE=image/jpeg:https://pflagniagara.ca/wp-content/uploads/2023/11/TGN.jpg
ORGANIZER;CN="Transgender Niagara":MAILTO:mctigue.colleen@gmail.com
END:VEVENT
BEGIN:VEVENT
DTSTART;TZID=America/Toronto:20260430T180000
DTEND;TZID=America/Toronto:20260430T210000
DTSTAMP:20260424T083214
CREATED:20250425T210714Z
LAST-MODIFIED:20251202T201242Z
UID:10000698-1777572000-1777582800@pflagniagara.ca
SUMMARY:All-ages Board Games Night
DESCRIPTION:Stop by and join us for an evening of board games and community! \nPhoenix Rising\n325 St.Paul Street\nSt.Catharines\, ON\n6 pm – 9 pm \nFor more information\, email dee@pflagniagara.ca
URL:https://pflagniagara.ca/event/all-ages-board-games-night-2/2026-04-30/
LOCATION:Phoenix Rising\, 325 St.Paul Street\, St.Catharines\, ON\, L2R 3N1\, Canada
ATTACH;FMTTYPE=image/png:https://pflagniagara.ca/wp-content/uploads/2025/04/Games-Night-Poster-1.png
ORGANIZER;CN="pflag Niagara":MAILTO:niagaraon@pflagcanada.ca
END:VEVENT
BEGIN:VEVENT
DTSTART;TZID=America/Toronto:20260503T150000
DTEND;TZID=America/Toronto:20260503T163000
DTSTAMP:20260424T083214
CREATED:20260223T140913Z
LAST-MODIFIED:20260223T140913Z
UID:10000908-1777820400-1777825800@pflagniagara.ca
SUMMARY:Haldimand Norfolk Trans & Non-binary Peer Support
DESCRIPTION:For any trans or non-binary folks 16+ in Haldimand Norfolk looking for a safer space and an opportunity to build a supportive network. \n3:00 – 4:30 pm on the first Sunday of each month \nLVW Creative Barracks\n131 Lock St. E\, Dunnville\, ON \nEmail pridenh23@gmail.com for more information.
URL:https://pflagniagara.ca/event/haldimand-norfolk-trans-non-binary-peer-support-2/2026-05-03/
LOCATION:LVW Creative Barracks\, 131 Lock Street East\, Dunnville\, ON\, N1A 1J6\, Canada
ORGANIZER;CN="Pride Haldimand Norfolk":MAILTO:pridehn23@gmail.com
END:VEVENT
BEGIN:VEVENT
DTSTART;TZID=America/Toronto:20260512T190000
DTEND;TZID=America/Toronto:20260512T203000
DTSTAMP:20260424T083214
CREATED:20250124T190759Z
LAST-MODIFIED:20250415T191145Z
UID:10000193-1778612400-1778617800@pflagniagara.ca
SUMMARY:pflag Niagara Monthly Peer Discussion Meetup
DESCRIPTION:Meetups are for members of the 2S&LGBTQIA+ community\, family members\, friends\, and allies. They’re a place to connect with others\, make new friends\, seek (or share!) support\, information\, and resources on topics related to sexual orientation\, gender identity\, or gender expression. We share questions\, concerns\, and celebrations in a confidential and welcoming group setting.
URL:https://pflagniagara.ca/event/pflag-niagara-monthly-peer-discussion-meetup-13/2026-05-12/
LOCATION:Quest Community Health Centre\, 145 Queenston Street\, St.Catharines\, L2R 2Z9\, Canada
ATTACH;FMTTYPE=image/png:https://pflagniagara.ca/wp-content/uploads/2025/01/pflag_Niagara_hor_cmyk-1-e1744744196818.png
ORGANIZER;CN="pflag Niagara":MAILTO:niagaraon@pflagcanada.ca
END:VEVENT
BEGIN:VEVENT
DTSTART;TZID=America/Toronto:20260522T190000
DTEND;TZID=America/Toronto:20260522T210000
DTSTAMP:20260424T083214
CREATED:20231120T194723Z
LAST-MODIFIED:20250423T140819Z
UID:10000330-1779476400-1779483600@pflagniagara.ca
SUMMARY:Transgender Niagara - Monthly peer support meeting
DESCRIPTION:Peer Support Group for Transgender individuals and their families. Allies welcome! \nTakes place on the 4th Friday of each month. \nEmail facilitator Colleen McTigue mctigue.colleen@gmail.com for details.
URL:https://pflagniagara.ca/event/transgender-niagara-monthly-peer-support-meeting/2026-05-22/
LOCATION:Silver Spire United Church\, 366 St.Paul Street\, St.Catharines\, L2R 3N2\, Canada
ATTACH;FMTTYPE=image/jpeg:https://pflagniagara.ca/wp-content/uploads/2023/11/TGN.jpg
ORGANIZER;CN="Transgender Niagara":MAILTO:mctigue.colleen@gmail.com
END:VEVENT
BEGIN:VEVENT
DTSTART;TZID=America/Toronto:20260528T180000
DTEND;TZID=America/Toronto:20260528T193000
DTSTAMP:20260424T083214
CREATED:20251202T201131Z
LAST-MODIFIED:20251202T201347Z
UID:10000390-1779991200-1779996600@pflagniagara.ca
SUMMARY:2S&LGBTQ+ Adult Drop-In
DESCRIPTION:Building connections with other 2S&LGBTQ+ folks in Niagara\, 19+ \nFourth Thursday of each month 6-7:30 pm – location varies \nRegister online.  \nCall Ilana at 905-356-4222 ext.313 or email idixon@nfchc.ca for information
URL:https://pflagniagara.ca/event/2slgbtq-adult-drop-in-6-2/2026-05-28/
LOCATION:ON
CATEGORIES:Community Connection,Niagara Falls Community Health Centre
ATTACH;FMTTYPE=image/jpeg:https://pflagniagara.ca/wp-content/uploads/2024/12/e18d96b1-3275-4265-a372-f39dd3987265.jpg
END:VEVENT
BEGIN:VEVENT
DTSTART;TZID=America/Toronto:20260528T180000
DTEND;TZID=America/Toronto:20260528T210000
DTSTAMP:20260424T083214
CREATED:20250425T210714Z
LAST-MODIFIED:20251202T201242Z
UID:10000581-1779991200-1780002000@pflagniagara.ca
SUMMARY:All-ages Board Games Night
DESCRIPTION:Stop by and join us for an evening of board games and community! \nPhoenix Rising\n325 St.Paul Street\nSt.Catharines\, ON\n6 pm – 9 pm \nFor more information\, email dee@pflagniagara.ca
URL:https://pflagniagara.ca/event/all-ages-board-games-night-2/2026-05-28/
LOCATION:Phoenix Rising\, 325 St.Paul Street\, St.Catharines\, ON\, L2R 3N1\, Canada
ATTACH;FMTTYPE=image/png:https://pflagniagara.ca/wp-content/uploads/2025/04/Games-Night-Poster-1.png
ORGANIZER;CN="pflag Niagara":MAILTO:niagaraon@pflagcanada.ca
END:VEVENT
BEGIN:VEVENT
DTSTART;TZID=America/Toronto:20260607T150000
DTEND;TZID=America/Toronto:20260607T163000
DTSTAMP:20260424T083214
CREATED:20260223T140913Z
LAST-MODIFIED:20260223T140913Z
UID:10000909-1780844400-1780849800@pflagniagara.ca
SUMMARY:Haldimand Norfolk Trans & Non-binary Peer Support
DESCRIPTION:For any trans or non-binary folks 16+ in Haldimand Norfolk looking for a safer space and an opportunity to build a supportive network. \n3:00 – 4:30 pm on the first Sunday of each month \nLVW Creative Barracks\n131 Lock St. E\, Dunnville\, ON \nEmail pridenh23@gmail.com for more information.
URL:https://pflagniagara.ca/event/haldimand-norfolk-trans-non-binary-peer-support-2/2026-06-07/
LOCATION:LVW Creative Barracks\, 131 Lock Street East\, Dunnville\, ON\, N1A 1J6\, Canada
ORGANIZER;CN="Pride Haldimand Norfolk":MAILTO:pridehn23@gmail.com
END:VEVENT
BEGIN:VEVENT
DTSTART;TZID=America/Toronto:20260609T190000
DTEND;TZID=America/Toronto:20260609T203000
DTSTAMP:20260424T083215
CREATED:20250124T190759Z
LAST-MODIFIED:20250415T191145Z
UID:10000194-1781031600-1781037000@pflagniagara.ca
SUMMARY:pflag Niagara Monthly Peer Discussion Meetup
DESCRIPTION:Meetups are for members of the 2S&LGBTQIA+ community\, family members\, friends\, and allies. They’re a place to connect with others\, make new friends\, seek (or share!) support\, information\, and resources on topics related to sexual orientation\, gender identity\, or gender expression. We share questions\, concerns\, and celebrations in a confidential and welcoming group setting.
URL:https://pflagniagara.ca/event/pflag-niagara-monthly-peer-discussion-meetup-13/2026-06-09/
LOCATION:Quest Community Health Centre\, 145 Queenston Street\, St.Catharines\, L2R 2Z9\, Canada
ATTACH;FMTTYPE=image/png:https://pflagniagara.ca/wp-content/uploads/2025/01/pflag_Niagara_hor_cmyk-1-e1744744196818.png
ORGANIZER;CN="pflag Niagara":MAILTO:niagaraon@pflagcanada.ca
END:VEVENT
BEGIN:VEVENT
DTSTART;TZID=America/Toronto:20260625T180000
DTEND;TZID=America/Toronto:20260625T193000
DTSTAMP:20260424T083215
CREATED:20251202T201131Z
LAST-MODIFIED:20251202T201347Z
UID:10000391-1782410400-1782415800@pflagniagara.ca
SUMMARY:2S&LGBTQ+ Adult Drop-In
DESCRIPTION:Building connections with other 2S&LGBTQ+ folks in Niagara\, 19+ \nFourth Thursday of each month 6-7:30 pm – location varies \nRegister online.  \nCall Ilana at 905-356-4222 ext.313 or email idixon@nfchc.ca for information
URL:https://pflagniagara.ca/event/2slgbtq-adult-drop-in-6-2/2026-06-25/
LOCATION:ON
CATEGORIES:Community Connection,Niagara Falls Community Health Centre
ATTACH;FMTTYPE=image/jpeg:https://pflagniagara.ca/wp-content/uploads/2024/12/e18d96b1-3275-4265-a372-f39dd3987265.jpg
END:VEVENT
BEGIN:VEVENT
DTSTART;TZID=America/Toronto:20260625T180000
DTEND;TZID=America/Toronto:20260625T210000
DTSTAMP:20260424T083215
CREATED:20250425T210714Z
LAST-MODIFIED:20251202T201242Z
UID:10000582-1782410400-1782421200@pflagniagara.ca
SUMMARY:All-ages Board Games Night
DESCRIPTION:Stop by and join us for an evening of board games and community! \nPhoenix Rising\n325 St.Paul Street\nSt.Catharines\, ON\n6 pm – 9 pm \nFor more information\, email dee@pflagniagara.ca
URL:https://pflagniagara.ca/event/all-ages-board-games-night-2/2026-06-25/
LOCATION:Phoenix Rising\, 325 St.Paul Street\, St.Catharines\, ON\, L2R 3N1\, Canada
ATTACH;FMTTYPE=image/png:https://pflagniagara.ca/wp-content/uploads/2025/04/Games-Night-Poster-1.png
ORGANIZER;CN="pflag Niagara":MAILTO:niagaraon@pflagcanada.ca
END:VEVENT
BEGIN:VEVENT
DTSTART;TZID=America/Toronto:20260626T190000
DTEND;TZID=America/Toronto:20260626T210000
DTSTAMP:20260424T083215
CREATED:20231120T194723Z
LAST-MODIFIED:20250423T140819Z
UID:10000331-1782500400-1782507600@pflagniagara.ca
SUMMARY:Transgender Niagara - Monthly peer support meeting
DESCRIPTION:Peer Support Group for Transgender individuals and their families. Allies welcome! \nTakes place on the 4th Friday of each month. \nEmail facilitator Colleen McTigue mctigue.colleen@gmail.com for details.
URL:https://pflagniagara.ca/event/transgender-niagara-monthly-peer-support-meeting/2026-06-26/
LOCATION:Silver Spire United Church\, 366 St.Paul Street\, St.Catharines\, L2R 3N2\, Canada
ATTACH;FMTTYPE=image/jpeg:https://pflagniagara.ca/wp-content/uploads/2023/11/TGN.jpg
ORGANIZER;CN="Transgender Niagara":MAILTO:mctigue.colleen@gmail.com
END:VEVENT
BEGIN:VEVENT
DTSTART;TZID=America/Toronto:20260705T150000
DTEND;TZID=America/Toronto:20260705T163000
DTSTAMP:20260424T083215
CREATED:20260223T140913Z
LAST-MODIFIED:20260223T140913Z
UID:10000910-1783263600-1783269000@pflagniagara.ca
SUMMARY:Haldimand Norfolk Trans & Non-binary Peer Support
DESCRIPTION:For any trans or non-binary folks 16+ in Haldimand Norfolk looking for a safer space and an opportunity to build a supportive network. \n3:00 – 4:30 pm on the first Sunday of each month \nLVW Creative Barracks\n131 Lock St. E\, Dunnville\, ON \nEmail pridenh23@gmail.com for more information.
URL:https://pflagniagara.ca/event/haldimand-norfolk-trans-non-binary-peer-support-2/2026-07-05/
LOCATION:LVW Creative Barracks\, 131 Lock Street East\, Dunnville\, ON\, N1A 1J6\, Canada
ORGANIZER;CN="Pride Haldimand Norfolk":MAILTO:pridehn23@gmail.com
END:VEVENT
BEGIN:VEVENT
DTSTART;TZID=America/Toronto:20260714T190000
DTEND;TZID=America/Toronto:20260714T203000
DTSTAMP:20260424T083215
CREATED:20250124T190759Z
LAST-MODIFIED:20250415T191145Z
UID:10000195-1784055600-1784061000@pflagniagara.ca
SUMMARY:pflag Niagara Monthly Peer Discussion Meetup
DESCRIPTION:Meetups are for members of the 2S&LGBTQIA+ community\, family members\, friends\, and allies. They’re a place to connect with others\, make new friends\, seek (or share!) support\, information\, and resources on topics related to sexual orientation\, gender identity\, or gender expression. We share questions\, concerns\, and celebrations in a confidential and welcoming group setting.
URL:https://pflagniagara.ca/event/pflag-niagara-monthly-peer-discussion-meetup-13/2026-07-14/
LOCATION:Quest Community Health Centre\, 145 Queenston Street\, St.Catharines\, L2R 2Z9\, Canada
ATTACH;FMTTYPE=image/png:https://pflagniagara.ca/wp-content/uploads/2025/01/pflag_Niagara_hor_cmyk-1-e1744744196818.png
ORGANIZER;CN="pflag Niagara":MAILTO:niagaraon@pflagcanada.ca
END:VEVENT
BEGIN:VEVENT
DTSTART;TZID=America/Toronto:20260723T180000
DTEND;TZID=America/Toronto:20260723T193000
DTSTAMP:20260424T083215
CREATED:20251202T201131Z
LAST-MODIFIED:20251202T201347Z
UID:10000392-1784829600-1784835000@pflagniagara.ca
SUMMARY:2S&LGBTQ+ Adult Drop-In
DESCRIPTION:Building connections with other 2S&LGBTQ+ folks in Niagara\, 19+ \nFourth Thursday of each month 6-7:30 pm – location varies \nRegister online.  \nCall Ilana at 905-356-4222 ext.313 or email idixon@nfchc.ca for information
URL:https://pflagniagara.ca/event/2slgbtq-adult-drop-in-6-2/2026-07-23/
LOCATION:ON
CATEGORIES:Community Connection,Niagara Falls Community Health Centre
ATTACH;FMTTYPE=image/jpeg:https://pflagniagara.ca/wp-content/uploads/2024/12/e18d96b1-3275-4265-a372-f39dd3987265.jpg
END:VEVENT
BEGIN:VEVENT
DTSTART;TZID=America/Toronto:20260724T190000
DTEND;TZID=America/Toronto:20260724T210000
DTSTAMP:20260424T083215
CREATED:20231120T194723Z
LAST-MODIFIED:20250423T140819Z
UID:10000332-1784919600-1784926800@pflagniagara.ca
SUMMARY:Transgender Niagara - Monthly peer support meeting
DESCRIPTION:Peer Support Group for Transgender individuals and their families. Allies welcome! \nTakes place on the 4th Friday of each month. \nEmail facilitator Colleen McTigue mctigue.colleen@gmail.com for details.
URL:https://pflagniagara.ca/event/transgender-niagara-monthly-peer-support-meeting/2026-07-24/
LOCATION:Silver Spire United Church\, 366 St.Paul Street\, St.Catharines\, L2R 3N2\, Canada
ATTACH;FMTTYPE=image/jpeg:https://pflagniagara.ca/wp-content/uploads/2023/11/TGN.jpg
ORGANIZER;CN="Transgender Niagara":MAILTO:mctigue.colleen@gmail.com
END:VEVENT
BEGIN:VEVENT
DTSTART;TZID=America/Toronto:20260730T180000
DTEND;TZID=America/Toronto:20260730T210000
DTSTAMP:20260424T083215
CREATED:20250425T210714Z
LAST-MODIFIED:20251202T201242Z
UID:10000699-1785434400-1785445200@pflagniagara.ca
SUMMARY:All-ages Board Games Night
DESCRIPTION:Stop by and join us for an evening of board games and community! \nPhoenix Rising\n325 St.Paul Street\nSt.Catharines\, ON\n6 pm – 9 pm \nFor more information\, email dee@pflagniagara.ca
URL:https://pflagniagara.ca/event/all-ages-board-games-night-2/2026-07-30/
LOCATION:Phoenix Rising\, 325 St.Paul Street\, St.Catharines\, ON\, L2R 3N1\, Canada
ATTACH;FMTTYPE=image/png:https://pflagniagara.ca/wp-content/uploads/2025/04/Games-Night-Poster-1.png
ORGANIZER;CN="pflag Niagara":MAILTO:niagaraon@pflagcanada.ca
END:VEVENT
BEGIN:VEVENT
DTSTART;TZID=America/Toronto:20260802T150000
DTEND;TZID=America/Toronto:20260802T163000
DTSTAMP:20260424T083215
CREATED:20260223T140913Z
LAST-MODIFIED:20260223T140913Z
UID:10000911-1785682800-1785688200@pflagniagara.ca
SUMMARY:Haldimand Norfolk Trans & Non-binary Peer Support
DESCRIPTION:For any trans or non-binary folks 16+ in Haldimand Norfolk looking for a safer space and an opportunity to build a supportive network. \n3:00 – 4:30 pm on the first Sunday of each month \nLVW Creative Barracks\n131 Lock St. E\, Dunnville\, ON \nEmail pridenh23@gmail.com for more information.
URL:https://pflagniagara.ca/event/haldimand-norfolk-trans-non-binary-peer-support-2/2026-08-02/
LOCATION:LVW Creative Barracks\, 131 Lock Street East\, Dunnville\, ON\, N1A 1J6\, Canada
ORGANIZER;CN="Pride Haldimand Norfolk":MAILTO:pridehn23@gmail.com
END:VEVENT
BEGIN:VEVENT
DTSTART;TZID=America/Toronto:20260811T190000
DTEND;TZID=America/Toronto:20260811T203000
DTSTAMP:20260424T083215
CREATED:20250124T190759Z
LAST-MODIFIED:20250415T191145Z
UID:10000196-1786474800-1786480200@pflagniagara.ca
SUMMARY:pflag Niagara Monthly Peer Discussion Meetup
DESCRIPTION:Meetups are for members of the 2S&LGBTQIA+ community\, family members\, friends\, and allies. They’re a place to connect with others\, make new friends\, seek (or share!) support\, information\, and resources on topics related to sexual orientation\, gender identity\, or gender expression. We share questions\, concerns\, and celebrations in a confidential and welcoming group setting.
URL:https://pflagniagara.ca/event/pflag-niagara-monthly-peer-discussion-meetup-13/2026-08-11/
LOCATION:Quest Community Health Centre\, 145 Queenston Street\, St.Catharines\, L2R 2Z9\, Canada
ATTACH;FMTTYPE=image/png:https://pflagniagara.ca/wp-content/uploads/2025/01/pflag_Niagara_hor_cmyk-1-e1744744196818.png
ORGANIZER;CN="pflag Niagara":MAILTO:niagaraon@pflagcanada.ca
END:VEVENT
BEGIN:VEVENT
DTSTART;TZID=America/Toronto:20260827T180000
DTEND;TZID=America/Toronto:20260827T193000
DTSTAMP:20260424T083215
CREATED:20251202T201131Z
LAST-MODIFIED:20251202T201347Z
UID:10000393-1787853600-1787859000@pflagniagara.ca
SUMMARY:2S&LGBTQ+ Adult Drop-In
DESCRIPTION:Building connections with other 2S&LGBTQ+ folks in Niagara\, 19+ \nFourth Thursday of each month 6-7:30 pm – location varies \nRegister online.  \nCall Ilana at 905-356-4222 ext.313 or email idixon@nfchc.ca for information
URL:https://pflagniagara.ca/event/2slgbtq-adult-drop-in-6-2/2026-08-27/
LOCATION:ON
CATEGORIES:Community Connection,Niagara Falls Community Health Centre
ATTACH;FMTTYPE=image/jpeg:https://pflagniagara.ca/wp-content/uploads/2024/12/e18d96b1-3275-4265-a372-f39dd3987265.jpg
END:VEVENT
BEGIN:VEVENT
DTSTART;TZID=America/Toronto:20260827T180000
DTEND;TZID=America/Toronto:20260827T210000
DTSTAMP:20260424T083215
CREATED:20250425T210714Z
LAST-MODIFIED:20251202T201242Z
UID:10000584-1787853600-1787864400@pflagniagara.ca
SUMMARY:All-ages Board Games Night
DESCRIPTION:Stop by and join us for an evening of board games and community! \nPhoenix Rising\n325 St.Paul Street\nSt.Catharines\, ON\n6 pm – 9 pm \nFor more information\, email dee@pflagniagara.ca
URL:https://pflagniagara.ca/event/all-ages-board-games-night-2/2026-08-27/
LOCATION:Phoenix Rising\, 325 St.Paul Street\, St.Catharines\, ON\, L2R 3N1\, Canada
ATTACH;FMTTYPE=image/png:https://pflagniagara.ca/wp-content/uploads/2025/04/Games-Night-Poster-1.png
ORGANIZER;CN="pflag Niagara":MAILTO:niagaraon@pflagcanada.ca
END:VEVENT
BEGIN:VEVENT
DTSTART;TZID=America/Toronto:20260828T190000
DTEND;TZID=America/Toronto:20260828T210000
DTSTAMP:20260424T083215
CREATED:20231120T194723Z
LAST-MODIFIED:20250423T140819Z
UID:10000333-1787943600-1787950800@pflagniagara.ca
SUMMARY:Transgender Niagara - Monthly peer support meeting
DESCRIPTION:Peer Support Group for Transgender individuals and their families. Allies welcome! \nTakes place on the 4th Friday of each month. \nEmail facilitator Colleen McTigue mctigue.colleen@gmail.com for details.
URL:https://pflagniagara.ca/event/transgender-niagara-monthly-peer-support-meeting/2026-08-28/
LOCATION:Silver Spire United Church\, 366 St.Paul Street\, St.Catharines\, L2R 3N2\, Canada
ATTACH;FMTTYPE=image/jpeg:https://pflagniagara.ca/wp-content/uploads/2023/11/TGN.jpg
ORGANIZER;CN="Transgender Niagara":MAILTO:mctigue.colleen@gmail.com
END:VEVENT
BEGIN:VEVENT
DTSTART;TZID=America/Toronto:20260906T150000
DTEND;TZID=America/Toronto:20260906T163000
DTSTAMP:20260424T083215
CREATED:20260223T140913Z
LAST-MODIFIED:20260223T140913Z
UID:10000912-1788706800-1788712200@pflagniagara.ca
SUMMARY:Haldimand Norfolk Trans & Non-binary Peer Support
DESCRIPTION:For any trans or non-binary folks 16+ in Haldimand Norfolk looking for a safer space and an opportunity to build a supportive network. \n3:00 – 4:30 pm on the first Sunday of each month \nLVW Creative Barracks\n131 Lock St. E\, Dunnville\, ON \nEmail pridenh23@gmail.com for more information.
URL:https://pflagniagara.ca/event/haldimand-norfolk-trans-non-binary-peer-support-2/2026-09-06/
LOCATION:LVW Creative Barracks\, 131 Lock Street East\, Dunnville\, ON\, N1A 1J6\, Canada
ORGANIZER;CN="Pride Haldimand Norfolk":MAILTO:pridehn23@gmail.com
END:VEVENT
BEGIN:VEVENT
DTSTART;TZID=America/Toronto:20260908T190000
DTEND;TZID=America/Toronto:20260908T203000
DTSTAMP:20260424T083215
CREATED:20250124T190759Z
LAST-MODIFIED:20250415T191145Z
UID:10000197-1788894000-1788899400@pflagniagara.ca
SUMMARY:pflag Niagara Monthly Peer Discussion Meetup
DESCRIPTION:Meetups are for members of the 2S&LGBTQIA+ community\, family members\, friends\, and allies. They’re a place to connect with others\, make new friends\, seek (or share!) support\, information\, and resources on topics related to sexual orientation\, gender identity\, or gender expression. We share questions\, concerns\, and celebrations in a confidential and welcoming group setting.
URL:https://pflagniagara.ca/event/pflag-niagara-monthly-peer-discussion-meetup-13/2026-09-08/
LOCATION:Quest Community Health Centre\, 145 Queenston Street\, St.Catharines\, L2R 2Z9\, Canada
ATTACH;FMTTYPE=image/png:https://pflagniagara.ca/wp-content/uploads/2025/01/pflag_Niagara_hor_cmyk-1-e1744744196818.png
ORGANIZER;CN="pflag Niagara":MAILTO:niagaraon@pflagcanada.ca
END:VEVENT
BEGIN:VEVENT
DTSTART;TZID=America/Toronto:20260924T180000
DTEND;TZID=America/Toronto:20260924T193000
DTSTAMP:20260424T083215
CREATED:20251202T201131Z
LAST-MODIFIED:20251202T201347Z
UID:10000394-1790272800-1790278200@pflagniagara.ca
SUMMARY:2S&LGBTQ+ Adult Drop-In
DESCRIPTION:Building connections with other 2S&LGBTQ+ folks in Niagara\, 19+ \nFourth Thursday of each month 6-7:30 pm – location varies \nRegister online.  \nCall Ilana at 905-356-4222 ext.313 or email idixon@nfchc.ca for information
URL:https://pflagniagara.ca/event/2slgbtq-adult-drop-in-6-2/2026-09-24/
LOCATION:ON
CATEGORIES:Community Connection,Niagara Falls Community Health Centre
ATTACH;FMTTYPE=image/jpeg:https://pflagniagara.ca/wp-content/uploads/2024/12/e18d96b1-3275-4265-a372-f39dd3987265.jpg
END:VEVENT
BEGIN:VEVENT
DTSTART;TZID=America/Toronto:20260924T180000
DTEND;TZID=America/Toronto:20260924T210000
DTSTAMP:20260424T083215
CREATED:20250425T210714Z
LAST-MODIFIED:20251202T201242Z
UID:10000585-1790272800-1790283600@pflagniagara.ca
SUMMARY:All-ages Board Games Night
DESCRIPTION:Stop by and join us for an evening of board games and community! \nPhoenix Rising\n325 St.Paul Street\nSt.Catharines\, ON\n6 pm – 9 pm \nFor more information\, email dee@pflagniagara.ca
URL:https://pflagniagara.ca/event/all-ages-board-games-night-2/2026-09-24/
LOCATION:Phoenix Rising\, 325 St.Paul Street\, St.Catharines\, ON\, L2R 3N1\, Canada
ATTACH;FMTTYPE=image/png:https://pflagniagara.ca/wp-content/uploads/2025/04/Games-Night-Poster-1.png
ORGANIZER;CN="pflag Niagara":MAILTO:niagaraon@pflagcanada.ca
END:VEVENT
BEGIN:VEVENT
DTSTART;TZID=America/Toronto:20260925T190000
DTEND;TZID=America/Toronto:20260925T210000
DTSTAMP:20260424T083215
CREATED:20231120T194723Z
LAST-MODIFIED:20250423T140819Z
UID:10000334-1790362800-1790370000@pflagniagara.ca
SUMMARY:Transgender Niagara - Monthly peer support meeting
DESCRIPTION:Peer Support Group for Transgender individuals and their families. Allies welcome! \nTakes place on the 4th Friday of each month. \nEmail facilitator Colleen McTigue mctigue.colleen@gmail.com for details.
URL:https://pflagniagara.ca/event/transgender-niagara-monthly-peer-support-meeting/2026-09-25/
LOCATION:Silver Spire United Church\, 366 St.Paul Street\, St.Catharines\, L2R 3N2\, Canada
ATTACH;FMTTYPE=image/jpeg:https://pflagniagara.ca/wp-content/uploads/2023/11/TGN.jpg
ORGANIZER;CN="Transgender Niagara":MAILTO:mctigue.colleen@gmail.com
END:VEVENT
BEGIN:VEVENT
DTSTART;TZID=America/Toronto:20261004T150000
DTEND;TZID=America/Toronto:20261004T163000
DTSTAMP:20260424T083215
CREATED:20260223T140913Z
LAST-MODIFIED:20260223T140913Z
UID:10000913-1791126000-1791131400@pflagniagara.ca
SUMMARY:Haldimand Norfolk Trans & Non-binary Peer Support
DESCRIPTION:For any trans or non-binary folks 16+ in Haldimand Norfolk looking for a safer space and an opportunity to build a supportive network. \n3:00 – 4:30 pm on the first Sunday of each month \nLVW Creative Barracks\n131 Lock St. E\, Dunnville\, ON \nEmail pridenh23@gmail.com for more information.
URL:https://pflagniagara.ca/event/haldimand-norfolk-trans-non-binary-peer-support-2/2026-10-04/
LOCATION:LVW Creative Barracks\, 131 Lock Street East\, Dunnville\, ON\, N1A 1J6\, Canada
ORGANIZER;CN="Pride Haldimand Norfolk":MAILTO:pridehn23@gmail.com
END:VEVENT
BEGIN:VEVENT
DTSTART;TZID=America/Toronto:20261013T190000
DTEND;TZID=America/Toronto:20261013T203000
DTSTAMP:20260424T083215
CREATED:20250124T190759Z
LAST-MODIFIED:20250415T191145Z
UID:10000198-1791918000-1791923400@pflagniagara.ca
SUMMARY:pflag Niagara Monthly Peer Discussion Meetup
DESCRIPTION:Meetups are for members of the 2S&LGBTQIA+ community\, family members\, friends\, and allies. They’re a place to connect with others\, make new friends\, seek (or share!) support\, information\, and resources on topics related to sexual orientation\, gender identity\, or gender expression. We share questions\, concerns\, and celebrations in a confidential and welcoming group setting.
URL:https://pflagniagara.ca/event/pflag-niagara-monthly-peer-discussion-meetup-13/2026-10-13/
LOCATION:Quest Community Health Centre\, 145 Queenston Street\, St.Catharines\, L2R 2Z9\, Canada
ATTACH;FMTTYPE=image/png:https://pflagniagara.ca/wp-content/uploads/2025/01/pflag_Niagara_hor_cmyk-1-e1744744196818.png
ORGANIZER;CN="pflag Niagara":MAILTO:niagaraon@pflagcanada.ca
END:VEVENT
BEGIN:VEVENT
DTSTART;TZID=America/Toronto:20261022T180000
DTEND;TZID=America/Toronto:20261022T193000
DTSTAMP:20260424T083215
CREATED:20251202T201131Z
LAST-MODIFIED:20251202T201347Z
UID:10000395-1792692000-1792697400@pflagniagara.ca
SUMMARY:2S&LGBTQ+ Adult Drop-In
DESCRIPTION:Building connections with other 2S&LGBTQ+ folks in Niagara\, 19+ \nFourth Thursday of each month 6-7:30 pm – location varies \nRegister online.  \nCall Ilana at 905-356-4222 ext.313 or email idixon@nfchc.ca for information
URL:https://pflagniagara.ca/event/2slgbtq-adult-drop-in-6-2/2026-10-22/
LOCATION:ON
CATEGORIES:Community Connection,Niagara Falls Community Health Centre
ATTACH;FMTTYPE=image/jpeg:https://pflagniagara.ca/wp-content/uploads/2024/12/e18d96b1-3275-4265-a372-f39dd3987265.jpg
END:VEVENT
END:VCALENDAR